BEGIN:VCALENDAR
VERSION:2.0
PRODID:-//Union Brygge - ECPv6.15.10//NONSGML v1.0//EN
CALSCALE:GREGORIAN
METHOD:PUBLISH
X-WR-CALNAME:Union Brygge
X-ORIGINAL-URL:https://unionbrygge.no
X-WR-CALDESC:Arrangement for Union Brygge
REFRESH-INTERVAL;VALUE=DURATION:PT1H
X-Robots-Tag:noindex
X-PUBLISHED-TTL:PT1H
BEGIN:VTIMEZONE
TZID:Europe/Oslo
BEGIN:DAYLIGHT
TZOFFSETFROM:+0100
TZOFFSETTO:+0200
TZNAME:CEST
DTSTART:20240331T010000
END:DAYLIGHT
BEGIN:STANDARD
TZOFFSETFROM:+0200
TZOFFSETTO:+0100
TZNAME:CET
DTSTART:20241027T010000
END:STANDARD
BEGIN:DAYLIGHT
TZOFFSETFROM:+0100
TZOFFSETTO:+0200
TZNAME:CEST
DTSTART:20250330T010000
END:DAYLIGHT
BEGIN:STANDARD
TZOFFSETFROM:+0200
TZOFFSETTO:+0100
TZNAME:CET
DTSTART:20251026T010000
END:STANDARD
BEGIN:DAYLIGHT
TZOFFSETFROM:+0100
TZOFFSETTO:+0200
TZNAME:CEST
DTSTART:20260329T010000
END:DAYLIGHT
BEGIN:STANDARD
TZOFFSETFROM:+0200
TZOFFSETTO:+0100
TZNAME:CET
DTSTART:20261025T010000
END:STANDARD
END:VTIMEZONE
BEGIN:VEVENT
DTSTART;TZID=Europe/Oslo:20250913T190000
DTEND;TZID=Europe/Oslo:20250913T190000
DTSTAMP:20260419T183416
CREATED:20250805T135623Z
LAST-MODIFIED:20250805T135955Z
UID:10007124-1757790000-1757790000@unionbrygge.no
SUMMARY:Olcay Bayir og Omar Sosa & Gustavo Ovalles: Drammen Sacred // Åpningskonsert på Union Scene
DESCRIPTION:I tråd med årets festivaltema\, bygger vi kulturelle broer mellom Tyrkia/Kurdistan\, Cuba og Venezuela med dobbeltkonsert på Union Scene. \nSalsdørene åpner fra 18:00. 18-årsgrense + vergeordning. \nOlcay Bayir 19:00 \nDronningen av Anatolianske sanger kommer til Drammen! Musikken til den London-baserte tyrkisk-kurdiske sangeren og låtskriveren Olcay Bayirs er ren nytelse. Med utgangspunkt i sine anatolske røtter\, tolker hun sanger fra fortiden sin på nytt med en moderne vri\, som reflekterer hennes flerkulturelle og flerspråklige bakgrunn\, og hennes kurdiske sjel. Hun gir stemme til lydene og smertene til det tapre folket i Anatolia\, som kjemper for å bevare sitt språk\, sin kultur og sine tradisjoner. \nOlcay ble i 2015 nominert til beste nykommer ved Songlines Music Awards for debutalbumet «Neva| Harmony». Hennes andre album Rüya – Dream kom i 2019\, og siste album «Tu Gul î» kom i 2024; oppført som nummer 3 på Music Charts Europe (juli 2024)\, nummer 8 på Transglobal World Music Chart og nummer 4 på Balkan Music Chart. \nI Tu Gul î formidler Olcay lydene fra sine forfedre – deres smerte\, kjærlighet\, lengsler\, håp\, verdier og eksistensielle bekymringer – på en enkel\, klar\, kunstnerisk og emosjonell måte. Hennes unike personlige preg og tolkninger skinner gjennom hele verket\, samtidig som hun opprettholder originaliteten i sangene. \nOmar Sosa – Gustavo Ovalles DUO kl. 21:00 \nSeks ganger GRAMMY-nominerte pianist Omar Sosa fra Cuba og den venezuelanske perkusjonisten Gustavo Ovalles åpner årets Drammen Sacred Music Festival med sin inspirerende musikalske kjemi og kreativitet. Duoens intime setting lar Sosa juble fritt og lidenskapelig ved pianoet\, og bevege seg fra intense groove-mønstre til delikate\, balladiske uttrykksmåter. Ovalles spiller på en rekke interessante venezuelanske slagverksinstrumenter\, inkludert quitiplas og culo’e puya\, samt congas\, bongo\, maracas og guiro. Begge har brukt mye tid på å utforske afro-karibiske musikalske kulturer og afrikansk påvirkning av folkemusikktradisjonene i hjemlandene sine. Under konserten får vi også oppleve afro-cubansk dans med Andy Gonzalo Varona og Yuliet Estrada Linares.
URL:https://unionbrygge.no/arrangement/olcay-bayir-og-omar-sosa-gustavo-ovalles-drammen-sacred-apningskonsert-pa-union-scene/
LOCATION:Union Scene\, Grønland 60\, Drammen\, 3045\, NO
ATTACH;FMTTYPE=image/webp:https://unionbrygge.no/wp-content/uploads/2025/08/clients-ChEXnUanGEJFrDh01h0o-productions-41398-web-large.webp
ORGANIZER;CN="Drammen Sacred Music Festival":MAILTO:director@drammensacred.no
END:VEVENT
END:VCALENDAR